BEGIN:VCALENDAR
VERSION:2.0
PRODID:-//Squarespace Inc/Squarespace 6//v6//EN
BEGIN:VEVENT
UID:5e1e4f48f33d00219d77f708@squarespace.com
DTSTAMP:20200121T020031Z
DTSTART:20200126T180000Z
DTEND:20200126T203000Z
SUMMARY:Voter Registration Training and Drive
GEO:40.720525;-73.845264
LOCATION:The Biliard Company\, 70-49 Austin Street\, NY\, 11375\, United St
 ates
END:VEVENT
END:VCALENDAR
