BEGIN:VCALENDAR
VERSION:2.0
PRODID:-//Squarespace Inc/Squarespace 6//v6//EN
BEGIN:VEVENT
UID:6026ef78238b040ba3cabafd@squarespace.com
DTSTAMP:20210221T231854Z
DTSTART:20210212T050000Z
DTEND:20210213T045900Z
SUMMARY:Support Epsilon Pi Omega Raffle
END:VEVENT
END:VCALENDAR
