BEGIN:VCALENDAR
VERSION:2.0
PRODID:-//Squarespace Inc/Squarespace 6//v6//EN
BEGIN:VEVENT
UID:6026eff6ec5f8c1f8e2ba1e5@squarespace.com
DTSTAMP:20210221T232453Z
DTSTART:20210214T213000Z
DTEND:20210214T223000Z
SUMMARY:Share the Valentine's Day love with an HBCU!
END:VEVENT
END:VCALENDAR
