BEGIN:VCALENDAR
VERSION:2.0
PRODID:-//Squarespace Inc/Squarespace 6//v6//EN
BEGIN:VEVENT
UID:602c42ba9efa3c3fd87ed11c@squarespace.com
DTSTAMP:20210221T232411Z
DTSTART:20210226T223000Z
DTEND:20210226T233000Z
SUMMARY:To Be Rescheduled!! Congresswoman Meng and NAACP
END:VEVENT
END:VCALENDAR
