BEGIN:VCALENDAR
VERSION:2.0
PRODID:-//Squarespace Inc/Squarespace 6//v6//EN
BEGIN:VEVENT
UID:60a5072e65ffd53bbd644109@squarespace.com
DTSTAMP:20210519T124149Z
DTSTART:20210526T230000Z
DTEND:20210527T000000Z
SUMMARY:QCDC Queens Borough President Forum
END:VEVENT
END:VCALENDAR
