BEGIN:VCALENDAR
VERSION:2.0
PRODID:-//Squarespace Inc/Squarespace 6//v6//EN
BEGIN:VEVENT
UID:603d5f0616f9d32cfbe1ccae@squarespace.com
DTSTAMP:20210301T222124Z
DTSTART:20210309T000000Z
DTEND:20210309T010000Z
SUMMARY:QCDC NYC Comptroller Forum
END:VEVENT
END:VCALENDAR
