BEGIN:VCALENDAR
VERSION:2.0
PRODID:-//Squarespace Inc/Squarespace 6//v6//EN
BEGIN:VEVENT
UID:5eaee931c3dfb005b72ca1af@squarespace.com
DTSTAMP:20200523T182815Z
DTSTART:20200527T230000Z
DTEND:20200528T010000Z
SUMMARY:QCDC Meeting via Zoom
END:VEVENT
END:VCALENDAR
