BEGIN:VCALENDAR
VERSION:2.0
PRODID:-//Squarespace Inc/Squarespace 6//v6//EN
BEGIN:VEVENT
UID:6003213b34e62f52c6d3ef4e@squarespace.com
DTSTAMP:20210116T205336Z
DTSTART:20210126T000000Z
DTEND:20210126T013000Z
SUMMARY:QCDC January Meeting
END:VEVENT
END:VCALENDAR
