BEGIN:VCALENDAR
VERSION:2.0
PRODID:-//Squarespace Inc/Squarespace 6//v6//EN
BEGIN:VEVENT
UID:5e2fa907e0d1180621b2ecef@squarespace.com
DTSTAMP:20200128T032436Z
DTSTART:20200203T233000Z
DTEND:20200204T010000Z
SUMMARY:QCDC General Meeting
GEO:40.719597;-73.847295
LOCATION:The West Side Tennis Club\, 1 Tennis Place\, Forest Hills\, NY\, 1
 1375\, United States
END:VEVENT
END:VCALENDAR
