BEGIN:VCALENDAR
VERSION:2.0
PRODID:-//Squarespace Inc/Squarespace 6//v6//EN
BEGIN:VEVENT
UID:603d5ff8d1876718b35b1f22@squarespace.com
DTSTAMP:20210323T214957Z
DTSTART:20210324T230000Z
DTEND:20210325T010000Z
SUMMARY:QCDC City Council District 29 Forum
END:VEVENT
END:VCALENDAR
