BEGIN:VCALENDAR
VERSION:2.0
PRODID:-//Squarespace Inc/Squarespace 6//v6//EN
BEGIN:VEVENT
UID:5fd6caa3313c42342b9d2f4e@squarespace.com
DTSTAMP:20201214T021732Z
DTSTART:20201218T000000Z
DTEND:20201218T010000Z
SUMMARY:Postcards to Georgia with QCDC\, QCYD\, WAG and One Queens Indivisi
 ble 
END:VEVENT
END:VCALENDAR
