BEGIN:VCALENDAR
VERSION:2.0
PRODID:-//Squarespace Inc/Squarespace 6//v6//EN
BEGIN:VEVENT
UID:6073b07a22e7506b0305a189@squarespace.com
DTSTAMP:20210412T023925Z
DTSTART:20210415T220000Z
DTEND:20210416T000000Z
SUMMARY:Phonebank with Aleda Gagarin 
END:VEVENT
END:VCALENDAR
