BEGIN:VCALENDAR
VERSION:2.0
PRODID:-//Squarespace Inc/Squarespace 6//v6//EN
BEGIN:VEVENT
UID:607d851286015c6f61dc9900@squarespace.com
DTSTAMP:20210419T133409Z
DTSTART:20210420T220000Z
DTEND:20210421T000000Z
SUMMARY:Phone Bank with Lynn Schulman
END:VEVENT
END:VCALENDAR
