BEGIN:VCALENDAR
VERSION:2.0
PRODID:-//Squarespace Inc/Squarespace 6//v6//EN
BEGIN:VEVENT
UID:60aa8f33a7a01358d936415d@squarespace.com
DTSTAMP:20210523T172637Z
DTSTART:20210525T220000Z
DTEND:20210526T000000Z
SUMMARY:Phone Bank with Lynn Schulman and Assemblyman Andrew Hevesi
END:VEVENT
END:VCALENDAR
