BEGIN:VCALENDAR
VERSION:2.0
PRODID:-//Squarespace Inc/Squarespace 6//v6//EN
BEGIN:VEVENT
UID:5f863ea4b2e54d10a43dd859@squarespace.com
DTSTAMP:20201013T235819Z
DTSTART:20201015T220000Z
DTEND:20201016T000000Z
SUMMARY:Phone Bank for Congresswoman Grace Meng
END:VEVENT
END:VCALENDAR
