BEGIN:VCALENDAR
VERSION:2.0
PRODID:-//Squarespace Inc/Squarespace 6//v6//EN
BEGIN:VEVENT
UID:6073aecc1064fe18aba3dba7@squarespace.com
DTSTAMP:20210412T022611Z
DTSTART:20210411T170000Z
DTEND:20210411T190000Z
SUMMARY:Lynn Schulman Day of Action
GEO:40.720567;-73.861441
LOCATION:P.S 174\, 65-10 Dieterle Crescent\, Queens\, NY\, 11374\, United S
 tates
END:VEVENT
END:VCALENDAR
