BEGIN:VCALENDAR
VERSION:2.0
PRODID:-//Squarespace Inc/Squarespace 6//v6//EN
BEGIN:VEVENT
UID:6094678bc11f9e542bb0c444@squarespace.com
DTSTAMP:20210506T220525Z
DTSTART:20210508T180000Z
DTEND:20210508T200000Z
SUMMARY:Join #TeamLynn and Councilman Justin Brannan
GEO:40.718396;-73.840908
LOCATION:Natural Market\, 7256 Austin Street\, Forest Hills\, NY\, 11375\, 
 United States
END:VEVENT
END:VCALENDAR
