BEGIN:VCALENDAR
VERSION:2.0
PRODID:-//Squarespace Inc/Squarespace 6//v6//EN
BEGIN:VEVENT
UID:5e48481350a0f5705440eac8@squarespace.com
DTSTAMP:20200215T194041Z
DTSTART:20200223T180000Z
DTEND:20200223T190000Z
SUMMARY:How To Run for County Committee Training 
GEO:40.720525;-73.845264
LOCATION:The Billiard Company\, 70-49 Austin Street\, Forest Hills\, NY\, 1
 1375\, United States
END:VEVENT
END:VCALENDAR
