BEGIN:VCALENDAR
VERSION:2.0
PRODID:-//Squarespace Inc/Squarespace 6//v6//EN
BEGIN:VEVENT
UID:602c406a92c6a05a3eb5c419@squarespace.com
DTSTAMP:20210216T220113Z
DTSTART:20210216T223000Z
DTEND:20210216T233000Z
SUMMARY: Help the Caribbean Equality Project (CEP) cultivate a supportive a
 nd progressive Caribbean community free of violence\, oppression &amp\; di
 scrimination
END:VEVENT
END:VCALENDAR
