BEGIN:VCALENDAR
VERSION:2.0
PRODID:-//Squarespace Inc/Squarespace 6//v6//EN
BEGIN:VEVENT
UID:6073b1ea0e3f7802d7b6b92d@squarespace.com
DTSTAMP:20210412T023658Z
DTSTART:20210424T170000Z
DTEND:20210424T200000Z
SUMMARY:Hang with Aleda
GEO:40.707372;-73.835267
LOCATION:Ateaz\, 11629 Metropolitan Avenue\, Richmond Hill\, NY\, 11418\, U
 nited States
END:VEVENT
END:VCALENDAR
