BEGIN:VCALENDAR
VERSION:2.0
PRODID:-//Squarespace Inc/Squarespace 6//v6//EN
BEGIN:VEVENT
UID:6073b3256b0134353fcadf67@squarespace.com
DTSTAMP:20210412T024247Z
DTSTART:20210522T170000Z
DTEND:20210522T200000Z
SUMMARY:Hang with Aleda
END:VEVENT
END:VCALENDAR
