BEGIN:VCALENDAR
VERSION:2.0
PRODID:-//Squarespace Inc/Squarespace 6//v6//EN
BEGIN:VEVENT
UID:6026f0770284a9712a6627d4@squarespace.com
DTSTAMP:20210212T211830Z
DTSTART:20210219T180000Z
DTEND:20210219T190000Z
SUMMARY:Free Live Discussion about Black Women\, Power and the Ball
END:VEVENT
END:VCALENDAR
