BEGIN:VCALENDAR
VERSION:2.0
PRODID:-//Squarespace Inc/Squarespace 6//v6//EN
BEGIN:VEVENT
UID:602c3f75cb818247b33fb34e@squarespace.com
DTSTAMP:20210216T215747Z
DTSTART:20210215T220000Z
DTEND:20210215T230000Z
SUMMARY:Follow the lead of Stacey Abrams by amplifying\, donating to or vol
 unteering for @fairfightaction @NewGAProject @BlackVotersMtr @GALEOorg @Ge
 orgia_NAACP or others she listed below:
END:VEVENT
END:VCALENDAR
