BEGIN:VCALENDAR
VERSION:2.0
PRODID:-//Squarespace Inc/Squarespace 6//v6//EN
BEGIN:VEVENT
UID:5e62d3cb4e26f66245eaf1df@squarespace.com
DTSTAMP:20200313T173421Z
DTSTART:20200322T170000Z
DTEND:20200322T200000Z
SUMMARY:CANCELED: Census Complete Count Training and Endorsement Meeting: C
 ongress\, State Senate\, Assembly\, District Leader\, and President
GEO:0.0;0.0
LOCATION:Cobblestones Pub\, 117-18 Queens Boulevard\, Queens\, NY\, 11375\, 
 United States
END:VEVENT
END:VCALENDAR
