BEGIN:VCALENDAR
VERSION:2.0
PRODID:-//Squarespace Inc/Squarespace 6//v6//EN
BEGIN:VEVENT
UID:6026efb4cd07d9028bb2659a@squarespace.com
DTSTAMP:20210216T215338Z
DTSTART:20210213T160000Z
DTEND:20210213T170000Z
SUMMARY:Discussion about culturally responsive pedagogy for parents during 
 the pandemic.
END:VEVENT
END:VCALENDAR
