BEGIN:VCALENDAR
VERSION:2.0
PRODID:-//Squarespace Inc/Squarespace 6//v6//EN
BEGIN:VEVENT
UID:5f39970470cb5c56a4ce4cbb@squarespace.com
DTSTAMP:20200816T203310Z
DTSTART:20200825T220000Z
DTEND:20200825T233000Z
SUMMARY:Day 8 of Action: GOTV for Kentucky U.S. Senate Candidate Amy McGrat
 h
END:VEVENT
END:VCALENDAR
