BEGIN:VCALENDAR
VERSION:2.0
PRODID:-//Squarespace Inc/Squarespace 6//v6//EN
BEGIN:VEVENT
UID:5f39967fdd13385c2b3e2791@squarespace.com
DTSTAMP:20200824T143423Z
DTSTART:20200824T230000Z
DTEND:20200825T003000Z
SUMMARY:Day 7 of Action: GOTV for Sharice Davids\, KS-03 Congressional Cand
 idate
END:VEVENT
END:VCALENDAR
