BEGIN:VCALENDAR
VERSION:2.0
PRODID:-//Squarespace Inc/Squarespace 6//v6//EN
BEGIN:VEVENT
UID:5f39956fdcbb3342ecc6566f@squarespace.com
DTSTAMP:20200816T202615Z
DTSTART:20200823T230000Z
DTEND:20200824T010000Z
SUMMARY:Day 6 of Action: GOTV for Texas U.S. Senate Candidate MJ Hegar 
END:VEVENT
END:VCALENDAR
