BEGIN:VCALENDAR
VERSION:2.0
PRODID:-//Squarespace Inc/Squarespace 6//v6//EN
BEGIN:VEVENT
UID:5f39944ed689050994b4b8da@squarespace.com
DTSTAMP:20200816T202122Z
DTSTART:20200822T170000Z
DTEND:20200822T190000Z
SUMMARY:Day 5 of Action: GOTV for Maine U.S. Senate Candidate Sara Gideon
END:VEVENT
END:VCALENDAR
