BEGIN:VCALENDAR
VERSION:2.0
PRODID:-//Squarespace Inc/Squarespace 6//v6//EN
BEGIN:VEVENT
UID:5f399359b504254b11dbc370@squarespace.com
DTSTAMP:20200816T201613Z
DTSTART:20200821T173000Z
DTEND:20200821T200000Z
SUMMARY:Day 4 of Action: Census Outreach Phone Banking
END:VEVENT
END:VCALENDAR
