BEGIN:VCALENDAR
VERSION:2.0
PRODID:-//Squarespace Inc/Squarespace 6//v6//EN
BEGIN:VEVENT
UID:5f39926b70cb5c56a4cdbdac@squarespace.com
DTSTAMP:20200816T201256Z
DTSTART:20200820T230000Z
DTEND:20200821T003000Z
SUMMARY:Day 3 of Action: GOTV for Candace Valenzuela\, TX-24 Congressional 
 Candidate
END:VEVENT
END:VCALENDAR
