BEGIN:VCALENDAR
VERSION:2.0
PRODID:-//Squarespace Inc/Squarespace 6//v6//EN
BEGIN:VEVENT
UID:5f3991cfb504254b11db7d24@squarespace.com
DTSTAMP:20200816T200844Z
DTSTART:20200819T230000Z
DTEND:20200820T003000Z
SUMMARY:Day 2 of Action: GOTV for Jackie Gordon\, NY-02 Congressional Candi
 date
END:VEVENT
END:VCALENDAR
