BEGIN:VCALENDAR
VERSION:2.0
PRODID:-//Squarespace Inc/Squarespace 6//v6//EN
BEGIN:VEVENT
UID:5f3990f670cb5c56a4cd8f57@squarespace.com
DTSTAMP:20200817T153525Z
DTSTART:20200818T220000Z
DTEND:20200818T230000Z
SUMMARY:Day 1 of Action: Text Back Tuesday Voter Outreach to Women in Key B
 attleground States with the&nbsp\;Women’s March
END:VEVENT
END:VCALENDAR
