BEGIN:VCALENDAR
VERSION:2.0
PRODID:-//Squarespace Inc/Squarespace 6//v6//EN
BEGIN:VEVENT
UID:5f5959b208252f38cefeed21@squarespace.com
DTSTAMP:20200909T224755Z
DTSTART:20200909T230000Z
DTEND:20200910T000000Z
SUMMARY:Climate Justice Panel
END:VEVENT
END:VCALENDAR
