BEGIN:VCALENDAR
VERSION:2.0
PRODID:-//Squarespace Inc/Squarespace 6//v6//EN
BEGIN:VEVENT
UID:6073afcfa16ea66773bc85d8@squarespace.com
DTSTAMP:20210412T022819Z
DTSTART:20210413T220000Z
DTEND:20210413T230000Z
SUMMARY:Brian Benjamin for Comptroller Outreach Event
END:VEVENT
END:VCALENDAR
