BEGIN:VCALENDAR
VERSION:2.0
PRODID:-//Squarespace Inc/Squarespace 6//v6//EN
BEGIN:VEVENT
UID:602c40ddf2fe080270606fee@squarespace.com
DTSTAMP:20210216T220332Z
DTSTART:20210219T010000Z
DTEND:20210219T020000Z
SUMMARY:Attend a New York Public Library Premier Cultural Series discussion
END:VEVENT
END:VCALENDAR
