BEGIN:VCALENDAR
VERSION:2.0
PRODID:-//Squarespace Inc/Squarespace 6//v6//EN
BEGIN:VEVENT
UID:602c430c96b69f0158135726@squarespace.com
DTSTAMP:20210216T221237Z
DTSTART:20210228T223000Z
DTEND:20210228T233000Z
SUMMARY:9 days of action re-cap and more ways to support Black History Mont
 h!
END:VEVENT
END:VCALENDAR
