BEGIN:VCALENDAR
VERSION:2.0
PRODID:-//Squarespace Inc/Squarespace 6//v6//EN
BEGIN:VEVENT
UID:5f34977031125c5001b79ed4@squarespace.com
DTSTAMP:20200817T154101Z
DTSTART:20200826T210000Z
DTEND:20200826T230000Z
SUMMARY:19th Amendment Centennial Celebration
GEO:40.727174;-73.855477
LOCATION:Macdonald Park\, 98-106 Queens Boulevard\, Forest Hills\, NY 11375
 \, United States
END:VEVENT
END:VCALENDAR
